BEGIN:VCALENDAR
VERSION:2.0
PRODID:-//Train The Trainers - ECPv6.15.20//NONSGML v1.0//EN
CALSCALE:GREGORIAN
METHOD:PUBLISH
X-WR-CALNAME:Train The Trainers
X-ORIGINAL-URL:https://www.trainthetrainers.nl
X-WR-CALDESC:Evenementen voor Train The Trainers
REFRESH-INTERVAL;VALUE=DURATION:PT1H
X-Robots-Tag:noindex
X-PUBLISHED-TTL:PT1H
BEGIN:VTIMEZONE
TZID:Europe/Amsterdam
BEGIN:DAYLIGHT
TZOFFSETFROM:+0100
TZOFFSETTO:+0200
TZNAME:CEST
DTSTART:20230326T010000
END:DAYLIGHT
BEGIN:STANDARD
TZOFFSETFROM:+0200
TZOFFSETTO:+0100
TZNAME:CET
DTSTART:20231029T010000
END:STANDARD
BEGIN:DAYLIGHT
TZOFFSETFROM:+0100
TZOFFSETTO:+0200
TZNAME:CEST
DTSTART:20240331T010000
END:DAYLIGHT
BEGIN:STANDARD
TZOFFSETFROM:+0200
TZOFFSETTO:+0100
TZNAME:CET
DTSTART:20241027T010000
END:STANDARD
BEGIN:DAYLIGHT
TZOFFSETFROM:+0100
TZOFFSETTO:+0200
TZNAME:CEST
DTSTART:20250330T010000
END:DAYLIGHT
BEGIN:STANDARD
TZOFFSETFROM:+0200
TZOFFSETTO:+0100
TZNAME:CET
DTSTART:20251026T010000
END:STANDARD
END:VTIMEZONE
BEGIN:VEVENT
DTSTART;TZID=Europe/Amsterdam:20240421T120000
DTEND;TZID=Europe/Amsterdam:20240421T170000
DTSTAMP:20260425T125103
CREATED:20180425T143740Z
LAST-MODIFIED:20230923T072807Z
UID:5844-1713700800-1713718800@www.trainthetrainers.nl
SUMMARY:THE GLADIATOR WORKOUTS®BOOTCAMP opleiding
DESCRIPTION:21BOOTCAMPS en andere outdoor trainingen blijven razend populair. Deze opleiding geeft in je ruimschoots stof voor afwisselende en effectieve trainingen. Gebaseerd op het succesvolle trainings systeem THE GLADIATOR WORKOUTS® dus uitgangspunt is gebalanceerd en doordacht trainingen kunnen ontwerpen. BOOTCAMP training geven is meer dan deelnemers moe maken met allerlei voor de hand liggende oefeningen. \nOm deze opleiding mee te doen hoef je niet certified GLADIATOR WORKOUTS® instructor te zijn. \nStudiebelasting en duur: 1 intensieve cursusdag van 12.00 tot 17.00 uur \nLocatie:  regio Rotterdam/Den Haag \nInclusief: \n\ncursusmap\nuitgewerkte trainingen (ready to use!)\ncertificaat\n\nDit delen:\n				Delen op X (Opent in een nieuw venster)\n				X\n			\n				Share op Facebook (Opent in een nieuw venster)\n				Facebook\n			\n				E-mail een link naar een vriend (Opent in een nieuw venster)\n				E-mail\n			\n				Afdrukken (Opent in een nieuw venster)\n				Print\n			\n				Delen op LinkedIn (Opent in een nieuw venster)\n				LinkedIn\n			\n				Delen op Pinterest (Opent in een nieuw venster)\n				Pinterest\n			\n				Delen op WhatsApp (Opent in een nieuw venster)\n				WhatsApp
URL:https://www.trainthetrainers.nl/event/the-gladiator-workoutscertification-2-2/
LOCATION:TTT Bootcamp locatie\, Nederland
CATEGORIES:Bootcamp,Opleidingen
ATTACH;FMTTYPE=image/png:https://www.trainthetrainers.nl/wp-content/uploads/2017/06/TTT-product-THE-GLADIATORWORKOUTS®-BOOTCAMP-380x500.png
ORGANIZER;CN="Train The Trainers B.V.":MAILTO:info@trainthetrainers.nl
END:VEVENT
END:VCALENDAR