BEGIN:VCALENDAR
VERSION:2.0
PRODID:-//Train The Trainers - ECPv6.15.20//NONSGML v1.0//EN
CALSCALE:GREGORIAN
METHOD:PUBLISH
X-WR-CALNAME:Train The Trainers
X-ORIGINAL-URL:https://www.trainthetrainers.nl
X-WR-CALDESC:Evenementen voor Train The Trainers
REFRESH-INTERVAL;VALUE=DURATION:PT1H
X-Robots-Tag:noindex
X-PUBLISHED-TTL:PT1H
BEGIN:VTIMEZONE
TZID:Europe/Amsterdam
BEGIN:DAYLIGHT
TZOFFSETFROM:+0100
TZOFFSETTO:+0200
TZNAME:CEST
DTSTART:20250330T010000
END:DAYLIGHT
BEGIN:STANDARD
TZOFFSETFROM:+0200
TZOFFSETTO:+0100
TZNAME:CET
DTSTART:20251026T010000
END:STANDARD
BEGIN:DAYLIGHT
TZOFFSETFROM:+0100
TZOFFSETTO:+0200
TZNAME:CEST
DTSTART:20260329T010000
END:DAYLIGHT
BEGIN:STANDARD
TZOFFSETFROM:+0200
TZOFFSETTO:+0100
TZNAME:CET
DTSTART:20261025T010000
END:STANDARD
BEGIN:DAYLIGHT
TZOFFSETFROM:+0100
TZOFFSETTO:+0200
TZNAME:CEST
DTSTART:20270328T010000
END:DAYLIGHT
BEGIN:STANDARD
TZOFFSETFROM:+0200
TZOFFSETTO:+0100
TZNAME:CET
DTSTART:20271031T010000
END:STANDARD
END:VTIMEZONE
BEGIN:VEVENT
DTSTART;TZID=Europe/Amsterdam:20260314T090000
DTEND;TZID=Europe/Amsterdam:20260328T160000
DTSTAMP:20260421T164259
CREATED:20211110T101550Z
LAST-MODIFIED:20251010T074527Z
UID:20134-1773478800-1774713600@www.trainthetrainers.nl
SUMMARY:YOGA FOR KIDS
DESCRIPTION:Kinderyoga-instructeur \nWil je yogalessen geven aan kinderen? \nDat kan met de 2-daagse kinderyoga-opleiding voor de leeftijd van 3 t/m 12 jaar. \nSteeds meer volwassenen maar ook kinderen ontdekken hoe yoga helpt om in balans te komen met jezelf. Yoga is daarom een goed middel om beter om te kunnen gaan met de snelle\, hectische samenleving van nu. Kinderyoga is een geweldige training met succesvolle ontvangst bij de jonge deelnemers en heel leuk om te geven. \n  \nBij kinderyoga wordt er op een speelse manier omgegaan met yoga. Kinderen zijn speels\, bewegelijk en hebben een levendige fantasie. \nDe kinderyogalessen draaien dan ook om het kind en sluiten aan op de leeftijd van de kinderen. \nKinderyoga heeft een positieve uitwerking op onder andere: uiten van emoties\, zelfvertrouwen\, concentratievermogen en balans en rust vinden. \nIn de lessen wisselen beweging en rust elkaar af. \n  \nWat leer je tijdens de kinderyoga-opleiding: \n-Yoga-oefeningen aan de hand van dieren (dierenyoga) \n-Aandachtsoefeningen/meditatie-oefeningen \n-Ademhalingsoefeningen en spelletjes \n-Actieve en rustgevende yoga-oefeningen \n-Massage-oefeningen en spelletjes \n-Belang van het werken met zintuigen \n-Hoe maak je bestaande liedjes en spelletjes geschikt voor yoga? \n-Hoe stel je een les samen\, hoe bouw je deze op en hoe kun je gebruik maken van thema’s? \n  \nNa deze opleiding kun je zelfstandig yogalessen geven aan kinderen. \nOok zonder yoga-ervaring kun je deelnemen aan de opleiding. \n  \nInclusief: \n-opleidingsmateriaal \n-certificaat \nVoor meer informatie kijk hier \nDit delen:\n				Delen op X (Opent in een nieuw venster)\n				X\n			\n				Share op Facebook (Opent in een nieuw venster)\n				Facebook\n			\n				E-mail een link naar een vriend (Opent in een nieuw venster)\n				E-mail\n			\n				Afdrukken (Opent in een nieuw venster)\n				Print\n			\n				Delen op LinkedIn (Opent in een nieuw venster)\n				LinkedIn\n			\n				Delen op Pinterest (Opent in een nieuw venster)\n				Pinterest\n			\n				Delen op WhatsApp (Opent in een nieuw venster)\n				WhatsApp
URL:https://www.trainthetrainers.nl/event/shape-conditioning-3-3/
LOCATION:Tabijn De Duif\, Heiloo
CATEGORIES:Opleidingen
ATTACH;FMTTYPE=image/png:https://www.trainthetrainers.nl/wp-content/uploads/2021/12/TTT-YOGA-for-KIDS-380x500-1.png
ORGANIZER;CN="Train The Trainers B.V.":MAILTO:info@trainthetrainers.nl
END:VEVENT
END:VCALENDAR