BEGIN:VCALENDAR
VERSION:2.0
PRODID:-//Train The Trainers - ECPv6.15.20//NONSGML v1.0//EN
CALSCALE:GREGORIAN
METHOD:PUBLISH
X-WR-CALNAME:Train The Trainers
X-ORIGINAL-URL:https://www.trainthetrainers.nl
X-WR-CALDESC:Evenementen voor Train The Trainers
REFRESH-INTERVAL;VALUE=DURATION:PT1H
X-Robots-Tag:noindex
X-PUBLISHED-TTL:PT1H
BEGIN:VTIMEZONE
TZID:Europe/Amsterdam
BEGIN:DAYLIGHT
TZOFFSETFROM:+0100
TZOFFSETTO:+0200
TZNAME:CEST
DTSTART:20250330T010000
END:DAYLIGHT
BEGIN:STANDARD
TZOFFSETFROM:+0200
TZOFFSETTO:+0100
TZNAME:CET
DTSTART:20251026T010000
END:STANDARD
BEGIN:DAYLIGHT
TZOFFSETFROM:+0100
TZOFFSETTO:+0200
TZNAME:CEST
DTSTART:20260329T010000
END:DAYLIGHT
BEGIN:STANDARD
TZOFFSETFROM:+0200
TZOFFSETTO:+0100
TZNAME:CET
DTSTART:20261025T010000
END:STANDARD
BEGIN:DAYLIGHT
TZOFFSETFROM:+0100
TZOFFSETTO:+0200
TZNAME:CEST
DTSTART:20270328T010000
END:DAYLIGHT
BEGIN:STANDARD
TZOFFSETFROM:+0200
TZOFFSETTO:+0100
TZNAME:CET
DTSTART:20271031T010000
END:STANDARD
END:VTIMEZONE
BEGIN:VEVENT
DTSTART;TZID=Europe/Amsterdam:20260418T100000
DTEND;TZID=Europe/Amsterdam:20260418T170000
DTSTAMP:20260421T162621
CREATED:20230224T101057Z
LAST-MODIFIED:20260305T120206Z
UID:24397-1776506400-1776531600@www.trainthetrainers.nl
SUMMARY:FLOWCYCLE
DESCRIPTION:Voor ervaren instructeurs die hun lessen willen verdiepen en deelnemers écht in flow willen brengen. \nDeze workshop is niet voor beginnende indoor cycling instructeurs. Geef je nog geen fietslessen of nog maar kort? Dan is de 2-daagse opleiding CYCLE INSTRUCTOR de juiste basis om mee te starten. \nGeef je al jaren les maar wil je meer tools en methodes? FLOWCYCLE gaat diep in op de connectie met je deelnemers en het individueel coachen op energie- en intensiteitssystemen. \nOnder leiding van TTT CYCLE mastertrainer Désirée Vergers – psycho- en hypnotherapeut\, personal trainer en ervaren CYCLE-trainer – ga je inzichten uit het therapeutische veld verbinden met de kracht en effectiviteit van fietstrainingen. Met jarenlange ervaring in coaching\, training en groepslessen brengt zij sport\, brein en gedrag samen in een methode die deelnemers helpt om zowel fysiek als mentaal sterker te worden. \nSchrijf je hier dan nu in! \nVoor meer informatie van de workshop en FLOWSTAAT kijk op de opleidingspagina\, \nDit delen:\n				Delen op X (Opent in een nieuw venster)\n				X\n			\n				Share op Facebook (Opent in een nieuw venster)\n				Facebook\n			\n				E-mail een link naar een vriend (Opent in een nieuw venster)\n				E-mail\n			\n				Afdrukken (Opent in een nieuw venster)\n				Print\n			\n				Delen op LinkedIn (Opent in een nieuw venster)\n				LinkedIn\n			\n				Delen op Pinterest (Opent in een nieuw venster)\n				Pinterest\n			\n				Delen op WhatsApp (Opent in een nieuw venster)\n				WhatsApp
URL:https://www.trainthetrainers.nl/event/cycle-instructor-3/
LOCATION:SportCity\, Utrecht Leidsche Rijn- Sportpark
CATEGORIES:Opleidingen
ATTACH;FMTTYPE=image/png:https://www.trainthetrainers.nl/wp-content/uploads/2024/05/TTT-product-FLOWCYCLE-380x500-1.png
ORGANIZER;CN="Train The Trainers B.V.":MAILTO:info@trainthetrainers.nl
END:VEVENT
END:VCALENDAR