BEGIN:VCALENDAR
VERSION:2.0
PRODID:-//Train The Trainers - ECPv6.15.20//NONSGML v1.0//EN
CALSCALE:GREGORIAN
METHOD:PUBLISH
X-ORIGINAL-URL:https://www.trainthetrainers.nl
X-WR-CALDESC:Evenementen voor Train The Trainers
REFRESH-INTERVAL;VALUE=DURATION:PT1H
X-Robots-Tag:noindex
X-PUBLISHED-TTL:PT1H
BEGIN:VTIMEZONE
TZID:Europe/Amsterdam
BEGIN:DAYLIGHT
TZOFFSETFROM:+0100
TZOFFSETTO:+0200
TZNAME:CEST
DTSTART:20250330T010000
END:DAYLIGHT
BEGIN:STANDARD
TZOFFSETFROM:+0200
TZOFFSETTO:+0100
TZNAME:CET
DTSTART:20251026T010000
END:STANDARD
BEGIN:DAYLIGHT
TZOFFSETFROM:+0100
TZOFFSETTO:+0200
TZNAME:CEST
DTSTART:20260329T010000
END:DAYLIGHT
BEGIN:STANDARD
TZOFFSETFROM:+0200
TZOFFSETTO:+0100
TZNAME:CET
DTSTART:20261025T010000
END:STANDARD
BEGIN:DAYLIGHT
TZOFFSETFROM:+0100
TZOFFSETTO:+0200
TZNAME:CEST
DTSTART:20270328T010000
END:DAYLIGHT
BEGIN:STANDARD
TZOFFSETFROM:+0200
TZOFFSETTO:+0100
TZNAME:CET
DTSTART:20271031T010000
END:STANDARD
END:VTIMEZONE
BEGIN:VEVENT
DTSTART;TZID=Europe/Amsterdam:20260321T120000
DTEND;TZID=Europe/Amsterdam:20260328T170000
DTSTAMP:20260421T190152
CREATED:20220310T094744Z
LAST-MODIFIED:20260311T074708Z
UID:20135-1774094400-1774717200@www.trainthetrainers.nl
SUMMARY:SHAPE & CONDITIONING
DESCRIPTION:1Inhoud: speciaal voor fitness- en groepslesinstructeurs die hun vaardigheden willen uitbreiden met het kunnen geven of updaten van bodyshapelessen\, BBB\, buikspiersessies\, miniworkouts\, coretrainingen of functional training lessen. Deze 2 cursusdagen staan in het teken van het leren van een grote hoeveelheid lesstof. Je leert gebruik maken van diverse lesstructuren en thema’s voor groepslessen zoals die in de moderne fitnesscentra aangeboden worden zoals; \nCoresessies\, Bodyshape\, High Intensity Interval Trainingen (HIIT)\, Total Body Conditioning en de door TRAIN THE TRAINERS ontwikkelde lessoort SUPERSHAPE. \nPraktijk: \n\nveilig en doelgerichte oefeningen en lessen kunnen geven\nde juiste techniek kunnen uitvoeren en aanleren\neffectief instructie geven en corrigeren\ngebruik van fitnessmaterialen als kettlebells\, barbells\, dumbells etc.\n\n  \nDeze opleiding is een perfect vervolg op de TEACHING SKILLS en FUNCTIONAL TRAINING opleiding. \n21 + 28 maart 2026\, Den Haag\, €349\,00. \nNog niet ingeschreven? Schrijf je hier dan nu in! \nDit delen:\n				Delen op X (Opent in een nieuw venster)\n				X\n			\n				Share op Facebook (Opent in een nieuw venster)\n				Facebook\n			\n				E-mail een link naar een vriend (Opent in een nieuw venster)\n				E-mail\n			\n				Afdrukken (Opent in een nieuw venster)\n				Print\n			\n				Delen op LinkedIn (Opent in een nieuw venster)\n				LinkedIn\n			\n				Delen op Pinterest (Opent in een nieuw venster)\n				Pinterest\n			\n				Delen op WhatsApp (Opent in een nieuw venster)\n				WhatsApp
URL:https://www.trainthetrainers.nl/event/shape-conditioning-3-4/
LOCATION:SportCity\, Den Haag\, Verheeskade 105\, Den Haag\, 2521 DD\, Nederland
CATEGORIES:Opleidingen
ATTACH;FMTTYPE=image/png:https://www.trainthetrainers.nl/wp-content/uploads/2019/11/TTT-product-SHAPE-CONDITIONING-380x500.png
ORGANIZER;CN="Train The Trainers B.V.":MAILTO:info@trainthetrainers.nl
END:VEVENT
END:VCALENDAR