BEGIN:VCALENDAR
VERSION:2.0
PRODID:-//Train The Trainers - ECPv6.15.20//NONSGML v1.0//EN
CALSCALE:GREGORIAN
METHOD:PUBLISH
X-WR-CALNAME:Train The Trainers
X-ORIGINAL-URL:https://www.trainthetrainers.nl
X-WR-CALDESC:Evenementen voor Train The Trainers
REFRESH-INTERVAL;VALUE=DURATION:PT1H
X-Robots-Tag:noindex
X-PUBLISHED-TTL:PT1H
BEGIN:VTIMEZONE
TZID:Europe/Amsterdam
BEGIN:DAYLIGHT
TZOFFSETFROM:+0100
TZOFFSETTO:+0200
TZNAME:CEST
DTSTART:20180325T010000
END:DAYLIGHT
BEGIN:STANDARD
TZOFFSETFROM:+0200
TZOFFSETTO:+0100
TZNAME:CET
DTSTART:20181028T010000
END:STANDARD
BEGIN:DAYLIGHT
TZOFFSETFROM:+0100
TZOFFSETTO:+0200
TZNAME:CEST
DTSTART:20190331T010000
END:DAYLIGHT
BEGIN:STANDARD
TZOFFSETFROM:+0200
TZOFFSETTO:+0100
TZNAME:CET
DTSTART:20191027T010000
END:STANDARD
BEGIN:DAYLIGHT
TZOFFSETFROM:+0100
TZOFFSETTO:+0200
TZNAME:CEST
DTSTART:20200329T010000
END:DAYLIGHT
BEGIN:STANDARD
TZOFFSETFROM:+0200
TZOFFSETTO:+0100
TZNAME:CET
DTSTART:20201025T010000
END:STANDARD
BEGIN:DAYLIGHT
TZOFFSETFROM:+0100
TZOFFSETTO:+0200
TZNAME:CEST
DTSTART:20210328T010000
END:DAYLIGHT
BEGIN:STANDARD
TZOFFSETFROM:+0200
TZOFFSETTO:+0100
TZNAME:CET
DTSTART:20211031T010000
END:STANDARD
BEGIN:DAYLIGHT
TZOFFSETFROM:+0100
TZOFFSETTO:+0200
TZNAME:CEST
DTSTART:20220327T010000
END:DAYLIGHT
BEGIN:STANDARD
TZOFFSETFROM:+0200
TZOFFSETTO:+0100
TZNAME:CET
DTSTART:20221030T010000
END:STANDARD
BEGIN:DAYLIGHT
TZOFFSETFROM:+0100
TZOFFSETTO:+0200
TZNAME:CEST
DTSTART:20230326T010000
END:DAYLIGHT
BEGIN:STANDARD
TZOFFSETFROM:+0200
TZOFFSETTO:+0100
TZNAME:CET
DTSTART:20231029T010000
END:STANDARD
BEGIN:DAYLIGHT
TZOFFSETFROM:+0100
TZOFFSETTO:+0200
TZNAME:CEST
DTSTART:20240331T010000
END:DAYLIGHT
BEGIN:STANDARD
TZOFFSETFROM:+0200
TZOFFSETTO:+0100
TZNAME:CET
DTSTART:20241027T010000
END:STANDARD
BEGIN:DAYLIGHT
TZOFFSETFROM:+0100
TZOFFSETTO:+0200
TZNAME:CEST
DTSTART:20250330T010000
END:DAYLIGHT
BEGIN:STANDARD
TZOFFSETFROM:+0200
TZOFFSETTO:+0100
TZNAME:CET
DTSTART:20251026T010000
END:STANDARD
END:VTIMEZONE
BEGIN:VEVENT
DTSTART;VALUE=DATE:20241116
DTEND;VALUE=DATE:20241117
DTSTAMP:20260421T162543
CREATED:20171117T133512Z
LAST-MODIFIED:20251022T082124Z
UID:5620-1731715200-1731801599@www.trainthetrainers.nl
SUMMARY:THE GLADIATOR WORKOUTS®certification
DESCRIPTION:De trend van functionele trainingen heeft flink doorgezet. Met THE GLADIATOR WORKOUTS® hebben instructeurs\, clubs en deelnemers een fantastisch uitgewerkt TRAININGSSYSTEEM dat direct\, eenvoudig en goedkoop toepasbaar is. \nStudiebelasting en duur: 1 intensieve cursusdag \nLocatie:   Den Haag \nInclusief: \n\ncursusmap\nmarketingmateriaal\nspeciale workout muziek\nuitgewerkte trainingen (ready to use!)\ncertificaat\n\nDit delen:\n				Delen op X (Opent in een nieuw venster)\n				X\n			\n				Share op Facebook (Opent in een nieuw venster)\n				Facebook\n			\n				E-mail een link naar een vriend (Opent in een nieuw venster)\n				E-mail\n			\n				Afdrukken (Opent in een nieuw venster)\n				Print\n			\n				Delen op LinkedIn (Opent in een nieuw venster)\n				LinkedIn\n			\n				Delen op Pinterest (Opent in een nieuw venster)\n				Pinterest\n			\n				Delen op WhatsApp (Opent in een nieuw venster)\n				WhatsApp
URL:https://www.trainthetrainers.nl/event/the-gladiator-workoutscertification-kopie/
LOCATION:SportCity\, Utrecht Leidsche Rijn- Sportpark
CATEGORIES:Bootcamp,Opleidingen
ATTACH;FMTTYPE=image/png:https://www.trainthetrainers.nl/wp-content/uploads/2017/06/TTT-product-THE-GLADIATOR-WORKOUTS®-380x500.png
ORGANIZER;CN="Train The Trainers B.V.":MAILTO:info@trainthetrainers.nl
END:VEVENT
BEGIN:VEVENT
DTSTART;TZID=Europe/Amsterdam:20240421T120000
DTEND;TZID=Europe/Amsterdam:20240421T170000
DTSTAMP:20260421T162543
CREATED:20180425T143740Z
LAST-MODIFIED:20230923T072807Z
UID:5844-1713700800-1713718800@www.trainthetrainers.nl
SUMMARY:THE GLADIATOR WORKOUTS®BOOTCAMP opleiding
DESCRIPTION:21BOOTCAMPS en andere outdoor trainingen blijven razend populair. Deze opleiding geeft in je ruimschoots stof voor afwisselende en effectieve trainingen. Gebaseerd op het succesvolle trainings systeem THE GLADIATOR WORKOUTS® dus uitgangspunt is gebalanceerd en doordacht trainingen kunnen ontwerpen. BOOTCAMP training geven is meer dan deelnemers moe maken met allerlei voor de hand liggende oefeningen. \nOm deze opleiding mee te doen hoef je niet certified GLADIATOR WORKOUTS® instructor te zijn. \nStudiebelasting en duur: 1 intensieve cursusdag van 12.00 tot 17.00 uur \nLocatie:  regio Rotterdam/Den Haag \nInclusief: \n\ncursusmap\nuitgewerkte trainingen (ready to use!)\ncertificaat\n\nDit delen:\n				Delen op X (Opent in een nieuw venster)\n				X\n			\n				Share op Facebook (Opent in een nieuw venster)\n				Facebook\n			\n				E-mail een link naar een vriend (Opent in een nieuw venster)\n				E-mail\n			\n				Afdrukken (Opent in een nieuw venster)\n				Print\n			\n				Delen op LinkedIn (Opent in een nieuw venster)\n				LinkedIn\n			\n				Delen op Pinterest (Opent in een nieuw venster)\n				Pinterest\n			\n				Delen op WhatsApp (Opent in een nieuw venster)\n				WhatsApp
URL:https://www.trainthetrainers.nl/event/the-gladiator-workoutscertification-2-2/
LOCATION:TTT Bootcamp locatie\, Nederland
CATEGORIES:Bootcamp,Opleidingen
ATTACH;FMTTYPE=image/png:https://www.trainthetrainers.nl/wp-content/uploads/2017/06/TTT-product-THE-GLADIATORWORKOUTS®-BOOTCAMP-380x500.png
ORGANIZER;CN="Train The Trainers B.V.":MAILTO:info@trainthetrainers.nl
END:VEVENT
BEGIN:VEVENT
DTSTART;TZID=Europe/Amsterdam:20220917T120000
DTEND;TZID=Europe/Amsterdam:20221129T170000
DTSTAMP:20260421T162544
CREATED:20210810T121115Z
LAST-MODIFIED:20221229T102311Z
UID:20146-1663416000-1669741200@www.trainthetrainers.nl
SUMMARY:GROUP EXERCISE INSTRUCTOR - DEN HAAG
DESCRIPTION:De ´GROUP EXERCISE INSTRUCTOR´ opleiding is ontwikkeld om je zo praktisch en logisch mogelijk op te leiden tot allround (groepsles)fitnessinstructeur. In deze opleiding doorloop je 3 modules/opleidingen. Op de meest duidelijke en professionele wijze leer je de belangrijkste lesgeefskills: muziek en telling\, cueing\, instructie\, techniek en opbouwmethodiek. Daarnaast leer je alle spierversterkende oefeningen die gebruikt worden in een groepsfitnessles. Er komen diverse vormen van groepslessen aan bod zoals die in de moderne fitnesscentra aangeboden worden. \nVoor meer informatie en de afzonderlijke modules kijk op de opleidingspagina. \nStudiebelasting en duur:  6 intensieve cursusdagen + examendag \nKosten: €765\,00 Inclusief: \n\ncursusmateriaal\ncertificaat\n2 examens à €55\,00\, praktijk en FITNESS A theorie+ praktijk\n\nExclusief: \n\n NL Actief (Fit!vak) Fitnesstrainer A boek\, bijbestellen à €45\,00. Deze is zelf te bestellen via www.nlactief.nl\n\n\n  \nKIES EEN COMBINATIE VAN DE 3 OPLEIDINGEN TEACHING SKILLS< FITNESS A en SHAPE & CONDITIONING OP DATA NAAR KEUZE.\n \nVoor meer informatie kijk op de opleidingspagina GROUP EXERCISE INSTRUCTOR \nBetalingsregeling is mogelijk\, vraag naar de mogelijkheden. \n\nNog niet ingeschreven? Schrijf je hier dan nu in! \n  \nDit delen:\n				Delen op X (Opent in een nieuw venster)\n				X\n			\n				Share op Facebook (Opent in een nieuw venster)\n				Facebook\n			\n				E-mail een link naar een vriend (Opent in een nieuw venster)\n				E-mail\n			\n				Afdrukken (Opent in een nieuw venster)\n				Print\n			\n				Delen op LinkedIn (Opent in een nieuw venster)\n				LinkedIn\n			\n				Delen op Pinterest (Opent in een nieuw venster)\n				Pinterest\n			\n				Delen op WhatsApp (Opent in een nieuw venster)\n				WhatsApp
URL:https://www.trainthetrainers.nl/event/group-exercise-instructor-opleiding-kopie-2/
LOCATION:SportCity\, Den Haag\, Verheeskade 105\, Den Haag\, 2521 DD\, Nederland
CATEGORIES:Opleidingen
ATTACH;FMTTYPE=image/png:https://www.trainthetrainers.nl/wp-content/uploads/2015/05/TTT-product-GROUP-EXERCISE-INSTRUCTOR-380x500.png
ORGANIZER;CN="Train The Trainers B.V.":MAILTO:info@trainthetrainers.nl
END:VEVENT
BEGIN:VEVENT
DTSTART;TZID=Europe/Amsterdam:20220609T100000
DTEND;TZID=Europe/Amsterdam:20220609T170000
DTSTAMP:20260421T162544
CREATED:20210924T105205Z
LAST-MODIFIED:20240226T112344Z
UID:20206-1654768800-1654794000@www.trainthetrainers.nl
SUMMARY:THE GLADIATOR WORKOUTS® certification
DESCRIPTION:De trend van functionele trainingen en HIIT heeft flink doorgezet. Met THE GLADIATOR WORKOUTS® hebben instructeurs\, clubs en deelnemers een fantastisch uitgewerkt TRAININGSSYSTEEM dat direct\, eenvoudig en goedkoop toepasbaar is. De kenmerken van dit systeem is dat het REST BASED is en ipv van HIIT is het meer VIIT\, Variable Intensity Interval Training. \nStudiebelasting en duur: 1 intensieve cursusdag. \nLocatie:   nog niet bekend \nInclusief: \n\ncursusmap\nmarketingmateriaal\nspeciale workout muziek\nuitgewerkte trainingen (ready to use!)\ncertificaat\n\nNog niet ingeschreven? Schrijf je hier dan nu in! \nDit delen:\n				Delen op X (Opent in een nieuw venster)\n				X\n			\n				Share op Facebook (Opent in een nieuw venster)\n				Facebook\n			\n				E-mail een link naar een vriend (Opent in een nieuw venster)\n				E-mail\n			\n				Afdrukken (Opent in een nieuw venster)\n				Print\n			\n				Delen op LinkedIn (Opent in een nieuw venster)\n				LinkedIn\n			\n				Delen op Pinterest (Opent in een nieuw venster)\n				Pinterest\n			\n				Delen op WhatsApp (Opent in een nieuw venster)\n				WhatsApp
URL:https://www.trainthetrainers.nl/event/the-gladiator-workoutscertification-3/
LOCATION:nog niet bekend
CATEGORIES:Bootcamp,Opleidingen
ATTACH;FMTTYPE=image/png:https://www.trainthetrainers.nl/wp-content/uploads/2017/06/TTT-product-THE-GLADIATOR-WORKOUTS®-380x500.png
ORGANIZER;CN="Train The Trainers B.V.":MAILTO:info@trainthetrainers.nl
END:VEVENT
BEGIN:VEVENT
DTSTART;TZID=Europe/Amsterdam:20211003T120000
DTEND;TZID=Europe/Amsterdam:20211212T170000
DTSTAMP:20260421T162544
CREATED:20210813T075305Z
LAST-MODIFIED:20210908T081022Z
UID:20144-1633262400-1639328400@www.trainthetrainers.nl
SUMMARY:GROUP EXERCISE INSTRUCTOR - Amsterdam
DESCRIPTION:De ´GROUP EXERCISE INSTRUCTOR´ opleiding is ontwikkeld om je zo praktisch en logisch mogelijk op te leiden tot allround (groepsles)fitnessinstructeur. In deze opleiding doorloop je 3 modules/opleidingen. Op de meest duidelijke en professionele wijze leer je de belangrijkste lesgeefskills: muziek en telling\, cueing\, instructie\, techniek en opbouwmethodiek. Daarnaast leer je alle spierversterkende oefeningen die gebruikt worden in een groepsfitnessles. Er komen diverse vormen van groepslessen aan bod zoals die in de moderne fitnesscentra aangeboden worden. \nVoor meer informatie en de afzonderlijke modules kijk op de opleidingspagina. \nStudiebelasting en duur:  6 intensieve cursusdagen + examendag \nKosten: €665\,00 Inclusief: \n\ncursusmateriaal\ncertificaat\n2 examens à €45\,00\, praktijk en FITNESS A theorie\n\nExclusief: \n\n NL Actief (Fit!vak) Fitnesstrainer A boek\, bijbestellen à €45\,00. Deze is zelf te bestellen via www.nlactief.nl\n\n\n  \nNAJAARS EDITIE AMSTERDAM\n \nTEACHING SKILLS: 3 + 10 oktober 2021 \nFITNESS A: 21 + 28 november 2021 \nSHAPE & CONDITIONING: 5 + 12 december 2021 \nEXAMENS: 18 december 2021 (of een andere examendag) \n  \nBetalingsregeling is mogelijk\, vraag naar de mogelijkheden. \n\nNog niet ingeschreven? Schrijf je hier dan nu in! \n  \nDit delen:\n				Delen op X (Opent in een nieuw venster)\n				X\n			\n				Share op Facebook (Opent in een nieuw venster)\n				Facebook\n			\n				E-mail een link naar een vriend (Opent in een nieuw venster)\n				E-mail\n			\n				Afdrukken (Opent in een nieuw venster)\n				Print\n			\n				Delen op LinkedIn (Opent in een nieuw venster)\n				LinkedIn\n			\n				Delen op Pinterest (Opent in een nieuw venster)\n				Pinterest\n			\n				Delen op WhatsApp (Opent in een nieuw venster)\n				WhatsApp
URL:https://www.trainthetrainers.nl/event/group-exercise-instructor-opleiding-kopie-3/
LOCATION:SportCity\, Cornelis Schuytstraat\, Amsterdam\, SportCity Cornelis Schuyt\, Amsterdam
CATEGORIES:Opleidingen
ATTACH;FMTTYPE=image/png:https://www.trainthetrainers.nl/wp-content/uploads/2015/05/TTT-product-GROUP-EXERCISE-INSTRUCTOR-380x500.png
ORGANIZER;CN="Train The Trainers B.V.":MAILTO:info@trainthetrainers.nl
END:VEVENT
BEGIN:VEVENT
DTSTART;TZID=Europe/Amsterdam:20210918T120000
DTEND;TZID=Europe/Amsterdam:20211127T170000
DTSTAMP:20260421T162544
CREATED:20170628T111205Z
LAST-MODIFIED:20210810T120512Z
UID:5357-1631966400-1638032400@www.trainthetrainers.nl
SUMMARY:GROUP EXERCISE INSTRUCTOR - DEN HAAG
DESCRIPTION:De ´GROUP EXERCISE INSTRUCTOR´ opleiding is ontwikkeld om je zo praktisch en logisch mogelijk op te leiden tot allround (groepsles)fitnessinstructeur. In deze opleiding doorloop je 3 modules/opleidingen. Op de meest duidelijke en professionele wijze leer je de belangrijkste lesgeefskills: muziek en telling\, cueing\, instructie\, techniek en opbouwmethodiek. Daarnaast leer je alle spierversterkende oefeningen die gebruikt worden in een groepsfitnessles. Er komen diverse vormen van groepslessen aan bod zoals die in de moderne fitnesscentra aangeboden worden. \nVoor meer informatie en de afzonderlijke modules kijk op de opleidingspagina. \nStudiebelasting en duur:  6 intensieve cursusdagen + examendag \nKosten: €665\,00 Inclusief: \n\ncursusmateriaal\ncertificaat\n2 examens à €45\,00\, praktijk en FITNESS A theorie\n\nExclusief: \n\n NL Actief (Fit!vak) Fitnesstrainer A boek\, bijbestellen à €45\,00. Deze is zelf te bestellen via www.nlactief.nl\n\n\n  \nNAJAARS EDITIE DEN HAAG\n \nTEACHING SKILLS: 18 + 25 september 2021 \nFITNESS A: 2 + 9 oktober 2021 \nSHAPE & CONDITIONING: 20 + 27 november 2021 \nEXAMENS: 18 december 2021 (of een andere examendag) \n  \nBetalingsregeling is mogelijk\, vraag naar de mogelijkheden. \n\nNog niet ingeschreven? Schrijf je hier dan nu in! \n  \nDit delen:\n				Delen op X (Opent in een nieuw venster)\n				X\n			\n				Share op Facebook (Opent in een nieuw venster)\n				Facebook\n			\n				E-mail een link naar een vriend (Opent in een nieuw venster)\n				E-mail\n			\n				Afdrukken (Opent in een nieuw venster)\n				Print\n			\n				Delen op LinkedIn (Opent in een nieuw venster)\n				LinkedIn\n			\n				Delen op Pinterest (Opent in een nieuw venster)\n				Pinterest\n			\n				Delen op WhatsApp (Opent in een nieuw venster)\n				WhatsApp
URL:https://www.trainthetrainers.nl/event/group-exercise-instructor-opleiding-kopie/
LOCATION:SportCity\, Den Haag\, Verheeskade 105\, Den Haag\, 2521 DD\, Nederland
CATEGORIES:Opleidingen
ATTACH;FMTTYPE=image/png:https://www.trainthetrainers.nl/wp-content/uploads/2015/05/TTT-product-GROUP-EXERCISE-INSTRUCTOR-380x500.png
ORGANIZER;CN="Train The Trainers B.V.":MAILTO:info@trainthetrainers.nl
END:VEVENT
BEGIN:VEVENT
DTSTART;VALUE=DATE:20210704
DTEND;VALUE=DATE:20210705
DTSTAMP:20260421T162544
CREATED:20181029T110652Z
LAST-MODIFIED:20210224T175809Z
UID:5843-1625356800-1625443199@www.trainthetrainers.nl
SUMMARY:THE GLADIATOR WORKOUTS®certification
DESCRIPTION:De trend van functionele trainingen heeft flink doorgezet. Met THE GLADIATOR WORKOUTS® hebben instructeurs\, clubs en deelnemers een fantastisch uitgewerkt TRAININGSSYSTEEM dat direct\, eenvoudig en goedkoop toepasbaar is. \nStudiebelasting en duur: 1 intensieve cursusdag \nLocatie:   ovb Den Haag \nInclusief: \n\ncursusmap\nmarketingmateriaal\nspeciale workout muziek\nuitgewerkte trainingen (ready to use!)\ncertificaat\n\nDit delen:\n				Delen op X (Opent in een nieuw venster)\n				X\n			\n				Share op Facebook (Opent in een nieuw venster)\n				Facebook\n			\n				E-mail een link naar een vriend (Opent in een nieuw venster)\n				E-mail\n			\n				Afdrukken (Opent in een nieuw venster)\n				Print\n			\n				Delen op LinkedIn (Opent in een nieuw venster)\n				LinkedIn\n			\n				Delen op Pinterest (Opent in een nieuw venster)\n				Pinterest\n			\n				Delen op WhatsApp (Opent in een nieuw venster)\n				WhatsApp
URL:https://www.trainthetrainers.nl/event/the-gladiator-workoutscertification-2/
LOCATION:SportCity\, Den Haag\, Verheeskade 105\, Den Haag\, 2521 DD\, Nederland
CATEGORIES:Bootcamp,Opleidingen
ATTACH;FMTTYPE=image/png:https://www.trainthetrainers.nl/wp-content/uploads/2017/06/TTT-product-THE-GLADIATOR-WORKOUTS®-380x500.png
ORGANIZER;CN="Train The Trainers B.V.":MAILTO:info@trainthetrainers.nl
END:VEVENT
BEGIN:VEVENT
DTSTART;VALUE=DATE:20200927
DTEND;VALUE=DATE:20200928
DTSTAMP:20260421T162544
CREATED:20170825T131112Z
LAST-MODIFIED:20200124T090855Z
UID:5541-1601164800-1601251199@www.trainthetrainers.nl
SUMMARY:THE GLADIATOR WORKOUTS® UPDATE WORKSHOP
DESCRIPTION:THE GLADIATORWORKOUTS® UPDATE is een bijscholing van THE GLADIATOR WORKOUTS®. 3 Nieuwe workouts waar meteen mee gewerkt kan worden en waar je als instructeur veel mee kunt varieeren. Bovendien een inspiratievolle middag met gelijkgestemden die volop energie met elkaar delen. \nEditie #5 \n  \nStudiebelasting en duur: 1 intensieve cursusmiddag van 13.00 tot 16.00 uur. \nLocatie:   Snowworld Healthclub\, Zoetermeer. \nInclusief: \n\noutlines\nmotivation!\ncertificaat\n\nDit delen:\n				Delen op X (Opent in een nieuw venster)\n				X\n			\n				Share op Facebook (Opent in een nieuw venster)\n				Facebook\n			\n				E-mail een link naar een vriend (Opent in een nieuw venster)\n				E-mail\n			\n				Afdrukken (Opent in een nieuw venster)\n				Print\n			\n				Delen op LinkedIn (Opent in een nieuw venster)\n				LinkedIn\n			\n				Delen op Pinterest (Opent in een nieuw venster)\n				Pinterest\n			\n				Delen op WhatsApp (Opent in een nieuw venster)\n				WhatsApp
URL:https://www.trainthetrainers.nl/event/the-gladiator-workoutscertification-2-3/
LOCATION:SnowWorld\, Zoetermeer\, Buytenparklaan 30\, Zoetermeer\, 2717 AX\, Nederland
CATEGORIES:Bootcamp,Opleidingen
ATTACH;FMTTYPE=image/png:https://www.trainthetrainers.nl/wp-content/uploads/2017/06/TTT-product-THE-GLADIATORWORKOUTS®-UPDATE-380x500.png
ORGANIZER;CN="Train The Trainers B.V.":MAILTO:info@trainthetrainers.nl
END:VEVENT
BEGIN:VEVENT
DTSTART;VALUE=DATE:20190413
DTEND;VALUE=DATE:20190414
DTSTAMP:20260421T162544
CREATED:20190103T102407Z
LAST-MODIFIED:20190401T080548Z
UID:6061-1555113600-1555199999@www.trainthetrainers.nl
SUMMARY:DANCE INSTRUCTOR WORKSHOP #2
DESCRIPTION:Tijdens deze workshop leer je een cardioworkout te geven met waanzinnige moves in verschillende dansstijlen. \nHet thema van DANCE WORKSHOP #2 is HIPHOP/STREETDANCE\, LATIN\, MJ\, 80’s HOUSE DANCE. Deze workshop vindt plaats op 13 april. Inschrijven voor beide workshops levert 10% korting op. \nMet de geleerde methoden kun je iedereen laten swingen en zweten.  Een zeer geschikte les voor fitnesscentra en verenigingen om het groepslesrooster een extra impuls te geven. Perfect voor danscentra als conditiedansles. \n ACTIE: als je voor beide workshops van 6 en 13 april inschrijft ontvang je €25\,00 korting! \nNog niet ingeschreven? Schrijf je hier dan nu in. \nDit delen:\n				Delen op X (Opent in een nieuw venster)\n				X\n			\n				Share op Facebook (Opent in een nieuw venster)\n				Facebook\n			\n				E-mail een link naar een vriend (Opent in een nieuw venster)\n				E-mail\n			\n				Afdrukken (Opent in een nieuw venster)\n				Print\n			\n				Delen op LinkedIn (Opent in een nieuw venster)\n				LinkedIn\n			\n				Delen op Pinterest (Opent in een nieuw venster)\n				Pinterest\n			\n				Delen op WhatsApp (Opent in een nieuw venster)\n				WhatsApp
URL:https://www.trainthetrainers.nl/event/dance-instructor-workshop-2/
CATEGORIES:Opleidingen
ATTACH;FMTTYPE=image/png:https://www.trainthetrainers.nl/wp-content/uploads/2015/07/TTT-product-DANCE-INSTRUCTOR-380x500-1.png
ORGANIZER;CN="Train The Trainers B.V.":MAILTO:info@trainthetrainers.nl
END:VEVENT
BEGIN:VEVENT
DTSTART;VALUE=DATE:20190119
DTEND;VALUE=DATE:20190120
DTSTAMP:20260421T162544
CREATED:20170619T091704Z
LAST-MODIFIED:20181029T113159Z
UID:5286-1547856000-1547942399@www.trainthetrainers.nl
SUMMARY:GROUP EXERCISE INSTRUCTOR opleiding
DESCRIPTION:De ´GROUP EXERCISE INSTRUCTOR´ opleiding is ontwikkeld om je zo praktisch en logisch mogelijk op te leiden tot allround (groepsles)fitnessinstructeur. In deze opleiding doorloop je 3 modules . Zonder overbodige ‘poespas’ en regeltjes leer je de belangrijkste lesgeefskills: muziek en telling\, cueing\, instructie\, techniek en opbouwmethodiek. Daarnaast leer je alle spierversterkende oefeningen die gebruikt worden in een groepsfitnessles. Er komen diverse vormen van groepslessen aan bod zoals die in de moderne fitnesscentra aangeboden worden. \nStudiebelasting en duur: 7 intensieve cursusdagen \nKosten: €695\,00 Inclusief: \n\ncursusmateriaal\ncertificaat\nexamen\n\nExclusief: \n\n Fit!vak A boek\, bijbestellen à €35\,00\n\nEen ALLROUND-certificaat is te behalen na het succesvol afronden van de GROUP EXERCISE INSTRUCTOR + extra opleiding als: CYCLE- FIGHT RUNNING of DANCE INSTRUCTOR. \nNog niet ingeschreven? Schrijf je hier dan nu in! \n\nDit delen:\n				Delen op X (Opent in een nieuw venster)\n				X\n			\n				Share op Facebook (Opent in een nieuw venster)\n				Facebook\n			\n				E-mail een link naar een vriend (Opent in een nieuw venster)\n				E-mail\n			\n				Afdrukken (Opent in een nieuw venster)\n				Print\n			\n				Delen op LinkedIn (Opent in een nieuw venster)\n				LinkedIn\n			\n				Delen op Pinterest (Opent in een nieuw venster)\n				Pinterest\n			\n				Delen op WhatsApp (Opent in een nieuw venster)\n				WhatsApp
URL:https://www.trainthetrainers.nl/event/group-exercise-instructor-opleiding/
LOCATION:SportCity\, Den Haag\, Verheeskade 105\, Den Haag\, 2521 DD\, Nederland
CATEGORIES:Opleidingen
ATTACH;FMTTYPE=image/png:https://www.trainthetrainers.nl/wp-content/uploads/2015/05/TTT-product-GROUP-EXERCISE-INSTRUCTOR-380x500.png
END:VEVENT
END:VCALENDAR