BEGIN:VCALENDAR
VERSION:2.0
PRODID:-//Train The Trainers - ECPv6.15.20//NONSGML v1.0//EN
CALSCALE:GREGORIAN
METHOD:PUBLISH
X-ORIGINAL-URL:https://www.trainthetrainers.nl
X-WR-CALDESC:Evenementen voor Train The Trainers
REFRESH-INTERVAL;VALUE=DURATION:PT1H
X-Robots-Tag:noindex
X-PUBLISHED-TTL:PT1H
BEGIN:VTIMEZONE
TZID:Europe/Amsterdam
BEGIN:DAYLIGHT
TZOFFSETFROM:+0100
TZOFFSETTO:+0200
TZNAME:CEST
DTSTART:20190331T010000
END:DAYLIGHT
BEGIN:STANDARD
TZOFFSETFROM:+0200
TZOFFSETTO:+0100
TZNAME:CET
DTSTART:20191027T010000
END:STANDARD
BEGIN:DAYLIGHT
TZOFFSETFROM:+0100
TZOFFSETTO:+0200
TZNAME:CEST
DTSTART:20200329T010000
END:DAYLIGHT
BEGIN:STANDARD
TZOFFSETFROM:+0200
TZOFFSETTO:+0100
TZNAME:CET
DTSTART:20201025T010000
END:STANDARD
BEGIN:DAYLIGHT
TZOFFSETFROM:+0100
TZOFFSETTO:+0200
TZNAME:CEST
DTSTART:20210328T010000
END:DAYLIGHT
BEGIN:STANDARD
TZOFFSETFROM:+0200
TZOFFSETTO:+0100
TZNAME:CET
DTSTART:20211031T010000
END:STANDARD
BEGIN:DAYLIGHT
TZOFFSETFROM:+0100
TZOFFSETTO:+0200
TZNAME:CEST
DTSTART:20220327T010000
END:DAYLIGHT
BEGIN:STANDARD
TZOFFSETFROM:+0200
TZOFFSETTO:+0100
TZNAME:CET
DTSTART:20221030T010000
END:STANDARD
BEGIN:DAYLIGHT
TZOFFSETFROM:+0100
TZOFFSETTO:+0200
TZNAME:CEST
DTSTART:20230326T010000
END:DAYLIGHT
BEGIN:STANDARD
TZOFFSETFROM:+0200
TZOFFSETTO:+0100
TZNAME:CET
DTSTART:20231029T010000
END:STANDARD
BEGIN:DAYLIGHT
TZOFFSETFROM:+0100
TZOFFSETTO:+0200
TZNAME:CEST
DTSTART:20240331T010000
END:DAYLIGHT
BEGIN:STANDARD
TZOFFSETFROM:+0200
TZOFFSETTO:+0100
TZNAME:CET
DTSTART:20241027T010000
END:STANDARD
BEGIN:DAYLIGHT
TZOFFSETFROM:+0100
TZOFFSETTO:+0200
TZNAME:CEST
DTSTART:20250330T010000
END:DAYLIGHT
BEGIN:STANDARD
TZOFFSETFROM:+0200
TZOFFSETTO:+0100
TZNAME:CET
DTSTART:20251026T010000
END:STANDARD
BEGIN:DAYLIGHT
TZOFFSETFROM:+0100
TZOFFSETTO:+0200
TZNAME:CEST
DTSTART:20260329T010000
END:DAYLIGHT
BEGIN:STANDARD
TZOFFSETFROM:+0200
TZOFFSETTO:+0100
TZNAME:CET
DTSTART:20261025T010000
END:STANDARD
BEGIN:DAYLIGHT
TZOFFSETFROM:+0100
TZOFFSETTO:+0200
TZNAME:CEST
DTSTART:20270328T010000
END:DAYLIGHT
BEGIN:STANDARD
TZOFFSETFROM:+0200
TZOFFSETTO:+0100
TZNAME:CET
DTSTART:20271031T010000
END:STANDARD
END:VTIMEZONE
BEGIN:VEVENT
DTSTART;TZID=Europe/Amsterdam:20260228T120000
DTEND;TZID=Europe/Amsterdam:20260328T170000
DTSTAMP:20260421T160647
CREATED:20170625T165301Z
LAST-MODIFIED:20251010T073838Z
UID:5334-1772280000-1774717200@www.trainthetrainers.nl
SUMMARY:FITNESS A
DESCRIPTION:EEN KICKSTART VOOR STARTENDE FITNESSINSTRUCTEURS EN GROEPSLESINSTRUCTEURS \nAntwoorden op vragen hoe je spierkracht\, uithoudingsvermogen en flexibiliteit traint krijg je tijdens deze pittige opleiding FITNESS. Krijg inzicht in de energiesystemen op korte-\, middel- en lange termijn\, en lessoort gerelateerde inspanningsfysiologie.  Leer de werking van het cardiovasculair- en longsysteem en doe nog meer kennis op over algemene weefselleer\, skelet\, gewrichten en de ligging en functie van de spieren. \n\nenergiesystemen\nanatomie\ntrainings- en bewegingsleer\nbiomechanica\ntrainingsprincipes\nPRAKTIJK instructie & coaching\n\nNog niet ingeschreven? Schrijf je hier dan nu in! \n28 februari + 7 en 28 maart 2026\, 12.00 tot 17.00 uur\, SportCity Verheeskade 105\, Den Haag. \nDit delen:\n				Delen op X (Opent in een nieuw venster)\n				X\n			\n				Share op Facebook (Opent in een nieuw venster)\n				Facebook\n			\n				E-mail een link naar een vriend (Opent in een nieuw venster)\n				E-mail\n			\n				Afdrukken (Opent in een nieuw venster)\n				Print\n			\n				Delen op LinkedIn (Opent in een nieuw venster)\n				LinkedIn\n			\n				Delen op Pinterest (Opent in een nieuw venster)\n				Pinterest\n			\n				Delen op WhatsApp (Opent in een nieuw venster)\n				WhatsApp
URL:https://www.trainthetrainers.nl/event/fitness-a-2/
LOCATION:SportCity\, Den Haag\, Verheeskade 105\, Den Haag\, 2521 DD\, Nederland
CATEGORIES:Opleidingen
ATTACH;FMTTYPE=image/png:https://www.trainthetrainers.nl/wp-content/uploads/2015/07/TTT-productdummy-380x500.png
ORGANIZER;CN="Train The Trainers B.V.":MAILTO:info@trainthetrainers.nl
END:VEVENT
BEGIN:VEVENT
DTSTART;TZID=Europe/Amsterdam:20220609T100000
DTEND;TZID=Europe/Amsterdam:20220609T170000
DTSTAMP:20260421T160648
CREATED:20210924T105205Z
LAST-MODIFIED:20240226T112344Z
UID:20206-1654768800-1654794000@www.trainthetrainers.nl
SUMMARY:THE GLADIATOR WORKOUTS® certification
DESCRIPTION:De trend van functionele trainingen en HIIT heeft flink doorgezet. Met THE GLADIATOR WORKOUTS® hebben instructeurs\, clubs en deelnemers een fantastisch uitgewerkt TRAININGSSYSTEEM dat direct\, eenvoudig en goedkoop toepasbaar is. De kenmerken van dit systeem is dat het REST BASED is en ipv van HIIT is het meer VIIT\, Variable Intensity Interval Training. \nStudiebelasting en duur: 1 intensieve cursusdag. \nLocatie:   nog niet bekend \nInclusief: \n\ncursusmap\nmarketingmateriaal\nspeciale workout muziek\nuitgewerkte trainingen (ready to use!)\ncertificaat\n\nNog niet ingeschreven? Schrijf je hier dan nu in! \nDit delen:\n				Delen op X (Opent in een nieuw venster)\n				X\n			\n				Share op Facebook (Opent in een nieuw venster)\n				Facebook\n			\n				E-mail een link naar een vriend (Opent in een nieuw venster)\n				E-mail\n			\n				Afdrukken (Opent in een nieuw venster)\n				Print\n			\n				Delen op LinkedIn (Opent in een nieuw venster)\n				LinkedIn\n			\n				Delen op Pinterest (Opent in een nieuw venster)\n				Pinterest\n			\n				Delen op WhatsApp (Opent in een nieuw venster)\n				WhatsApp
URL:https://www.trainthetrainers.nl/event/the-gladiator-workoutscertification-3/
LOCATION:nog niet bekend
CATEGORIES:Bootcamp,Opleidingen
ATTACH;FMTTYPE=image/png:https://www.trainthetrainers.nl/wp-content/uploads/2017/06/TTT-product-THE-GLADIATOR-WORKOUTS®-380x500.png
ORGANIZER;CN="Train The Trainers B.V.":MAILTO:info@trainthetrainers.nl
END:VEVENT
BEGIN:VEVENT
DTSTART;TZID=Europe/Amsterdam:20211121T120000
DTEND;TZID=Europe/Amsterdam:20211128T170000
DTSTAMP:20260421T160648
CREATED:20210810T115406Z
LAST-MODIFIED:20210810T115406Z
UID:20138-1637496000-1638118800@www.trainthetrainers.nl
SUMMARY:FITNESS A
DESCRIPTION:EEN KICKSTART VOOR STARTENDE FITNESSINSTRUCTEURS! \nAntwoorden op vragen hoe je spierkracht\, uithoudingsvermogen en flexibiliteit traint krijg je tijdens deze pittige opleiding basiskennis FITNESS. Krijg inzicht in de energiesystemen op korte-\, middel- en lange termijn\, en lessoort gerelateerde inspanningsfysiologie.  Leer de werking van het cardiovasculair- en longsysteem en doe nog meer kennis op over algemene weefselleer\, skelet\, gewrichten en de ligging en functie van de spieren. \n\ncapaciteitstraining\nenergiesystemen\nanatomie\ntrainings- en bewegingsleer\nbiomechanica\n\nKijk op de opleidingspagina voor meer informatie. Nog niet ingeschreven? Schrijf je hier dan nu in! \nDit delen:\n				Delen op X (Opent in een nieuw venster)\n				X\n			\n				Share op Facebook (Opent in een nieuw venster)\n				Facebook\n			\n				E-mail een link naar een vriend (Opent in een nieuw venster)\n				E-mail\n			\n				Afdrukken (Opent in een nieuw venster)\n				Print\n			\n				Delen op LinkedIn (Opent in een nieuw venster)\n				LinkedIn\n			\n				Delen op Pinterest (Opent in een nieuw venster)\n				Pinterest\n			\n				Delen op WhatsApp (Opent in een nieuw venster)\n				WhatsApp
URL:https://www.trainthetrainers.nl/event/fitness-a-4/
LOCATION:SportCity\, Cornelis Schuytstraat\, Amsterdam\, SportCity Cornelis Schuyt\, Amsterdam
CATEGORIES:Opleidingen
ATTACH;FMTTYPE=image/png:https://www.trainthetrainers.nl/wp-content/uploads/2015/07/TTT-productdummy-380x500.png
ORGANIZER;CN="Train The Trainers B.V.":MAILTO:info@trainthetrainers.nl
END:VEVENT
BEGIN:VEVENT
DTSTART;VALUE=DATE:20200329
DTEND;VALUE=DATE:20200330
DTSTAMP:20260421T160648
CREATED:20151019T001105Z
LAST-MODIFIED:20200211T161349Z
UID:4880-1585440000-1585526399@www.trainthetrainers.nl
SUMMARY:STRENGTH TRAINING WORKSHOP
DESCRIPTION:Deze workshop is een echte aanrader voor fitnessinstructeurs\, sporttrainers en personal trainers die meer uit hun trainingen willen halen. Er wordt ingegaan op de verschillende vormen van krachttraining en de meest functionele en effectieve oefeningen. \nAan bod komen o.a. hypertrofie training\, snelkracht/explosieve kracht\, sportondersteunende krachttraining\, periodisering\, STRONGMAN-training. \nRode draad zal zijn differentiatie en blessurepreventie. Zoals bij alle opleidingen van TRAIN THE TRAINERS wordt er veel aandacht besteed aan gevorderde coachingtechnieken. Dit is wat het verschil maakt tussen een gemiddelde instructeur en een topinstructeur. \nEen must voor alle fysieke trainers! \nNog niet ingeschreven? Schrijf je hier dan nu in. \n  \nDit delen:\n				Delen op X (Opent in een nieuw venster)\n				X\n			\n				Share op Facebook (Opent in een nieuw venster)\n				Facebook\n			\n				E-mail een link naar een vriend (Opent in een nieuw venster)\n				E-mail\n			\n				Afdrukken (Opent in een nieuw venster)\n				Print\n			\n				Delen op LinkedIn (Opent in een nieuw venster)\n				LinkedIn\n			\n				Delen op Pinterest (Opent in een nieuw venster)\n				Pinterest\n			\n				Delen op WhatsApp (Opent in een nieuw venster)\n				WhatsApp
URL:https://www.trainthetrainers.nl/event/strength-training-workshop/
LOCATION:GYMBOX RUST\, Den Haag
CATEGORIES:Opleidingen
ATTACH;FMTTYPE=image/png:https://www.trainthetrainers.nl/wp-content/uploads/2015/07/TTT-product-STRENGTH-TRAINING-380x500.png
END:VEVENT
END:VCALENDAR