BEGIN:VCALENDAR
VERSION:2.0
PRODID:-//Train The Trainers - ECPv6.15.20//NONSGML v1.0//EN
CALSCALE:GREGORIAN
METHOD:PUBLISH
X-ORIGINAL-URL:https://www.trainthetrainers.nl
X-WR-CALDESC:Evenementen voor Train The Trainers
REFRESH-INTERVAL;VALUE=DURATION:PT1H
X-Robots-Tag:noindex
X-PUBLISHED-TTL:PT1H
BEGIN:VTIMEZONE
TZID:Europe/Amsterdam
BEGIN:DAYLIGHT
TZOFFSETFROM:+0100
TZOFFSETTO:+0200
TZNAME:CEST
DTSTART:20250330T010000
END:DAYLIGHT
BEGIN:STANDARD
TZOFFSETFROM:+0200
TZOFFSETTO:+0100
TZNAME:CET
DTSTART:20251026T010000
END:STANDARD
BEGIN:DAYLIGHT
TZOFFSETFROM:+0100
TZOFFSETTO:+0200
TZNAME:CEST
DTSTART:20260329T010000
END:DAYLIGHT
BEGIN:STANDARD
TZOFFSETFROM:+0200
TZOFFSETTO:+0100
TZNAME:CET
DTSTART:20261025T010000
END:STANDARD
BEGIN:DAYLIGHT
TZOFFSETFROM:+0100
TZOFFSETTO:+0200
TZNAME:CEST
DTSTART:20270328T010000
END:DAYLIGHT
BEGIN:STANDARD
TZOFFSETFROM:+0200
TZOFFSETTO:+0100
TZNAME:CET
DTSTART:20271031T010000
END:STANDARD
END:VTIMEZONE
BEGIN:VEVENT
DTSTART;TZID=Europe/Amsterdam:20260509T120000
DTEND;TZID=Europe/Amsterdam:20260530T170000
DTSTAMP:20260421T171806
CREATED:20170625T165055Z
LAST-MODIFIED:20260421T115601Z
UID:5332-1778328000-1780160400@www.trainthetrainers.nl
SUMMARY:STEP INSTRUCTOR
DESCRIPTION:Je leert logisch opbouwen van basic tot complex. Je gaat werken met technieken waarmee je de meest creatieve stepchoreografieen leert ontwerpen\, incl HIPHOP-step. Daarnaast leer je meerdere lesformats die gericht zijn op conditioning. Na de cursusdagen kun je op professionele wijze steples geven. \nStudiebelasting en duur: 3 intensieve cursusdagen \nData:  9 en 16 mei + 30 mei 2026\, 12.00 tot 17.00 uur\n \nLocatie: Den Haag \nInclusief :\n* cursusmateriaal\n* certificaat \nMogelijkheid tot examen op de vaste examendagen. Voor meer informatie kijk op de opleidingspagina. \nTRAINERS: NATHALIE VAN DEVENTER & BIANCA KAREL \nKijk op de opleidingspagina voor meer informatie. Nog niet ingeschreven? Schrijf je hier dan nu in! \nDit delen:\n				Delen op X (Opent in een nieuw venster)\n				X\n			\n				Share op Facebook (Opent in een nieuw venster)\n				Facebook\n			\n				E-mail een link naar een vriend (Opent in een nieuw venster)\n				E-mail\n			\n				Afdrukken (Opent in een nieuw venster)\n				Print\n			\n				Delen op LinkedIn (Opent in een nieuw venster)\n				LinkedIn\n			\n				Delen op Pinterest (Opent in een nieuw venster)\n				Pinterest\n			\n				Delen op WhatsApp (Opent in een nieuw venster)\n				WhatsApp
URL:https://www.trainthetrainers.nl/event/stepinstructor/
LOCATION:SportCity\, Den Haag\, Verheeskade 105\, Den Haag\, 2521 DD\, Nederland
CATEGORIES:Opleidingen
ATTACH;FMTTYPE=image/png:https://www.trainthetrainers.nl/wp-content/uploads/2017/06/TTT-product-STEP-INSTRUCTOR-380x500-2.png
ORGANIZER;CN="Train The Trainers B.V.":MAILTO:info@trainthetrainers.nl
END:VEVENT
END:VCALENDAR