BEGIN:VCALENDAR
VERSION:2.0
PRODID:-//Train The Trainers - ECPv6.15.20//NONSGML v1.0//EN
CALSCALE:GREGORIAN
METHOD:PUBLISH
X-WR-CALNAME:Train The Trainers
X-ORIGINAL-URL:https://www.trainthetrainers.nl
X-WR-CALDESC:Evenementen voor Train The Trainers
REFRESH-INTERVAL;VALUE=DURATION:PT1H
X-Robots-Tag:noindex
X-PUBLISHED-TTL:PT1H
BEGIN:VTIMEZONE
TZID:Europe/Amsterdam
BEGIN:DAYLIGHT
TZOFFSETFROM:+0100
TZOFFSETTO:+0200
TZNAME:CEST
DTSTART:20250330T010000
END:DAYLIGHT
BEGIN:STANDARD
TZOFFSETFROM:+0200
TZOFFSETTO:+0100
TZNAME:CET
DTSTART:20251026T010000
END:STANDARD
BEGIN:DAYLIGHT
TZOFFSETFROM:+0100
TZOFFSETTO:+0200
TZNAME:CEST
DTSTART:20260329T010000
END:DAYLIGHT
BEGIN:STANDARD
TZOFFSETFROM:+0200
TZOFFSETTO:+0100
TZNAME:CET
DTSTART:20261025T010000
END:STANDARD
BEGIN:DAYLIGHT
TZOFFSETFROM:+0100
TZOFFSETTO:+0200
TZNAME:CEST
DTSTART:20270328T010000
END:DAYLIGHT
BEGIN:STANDARD
TZOFFSETFROM:+0200
TZOFFSETTO:+0100
TZNAME:CET
DTSTART:20271031T010000
END:STANDARD
END:VTIMEZONE
BEGIN:VEVENT
DTSTART;TZID=Europe/Amsterdam:20260620T120000
DTEND;TZID=Europe/Amsterdam:20260620T120000
DTSTAMP:20260421T205258
CREATED:20170825T130502Z
LAST-MODIFIED:20260413T171643Z
UID:5539-1781956800-1781956800@www.trainthetrainers.nl
SUMMARY:THE GLADIATOR KIDS WORKOUTS® KIDS
DESCRIPTION:THE GLADIATOR KIDS WORKOUTS® maakt sporten leuk en stoer. Het TGW®KIDS programma bestaat uit verschillende workouts die ontworpen zijn voor het nog in ontwikkeling zijnde lichaam van kinderen. Naast training bevat de oefenstof ook leuke koppelingen naar gezonde leefstijl en voeding. \nLees meer informatie op de opleidingspagina. \nStudiebelasting en duur: 1  intensieve cursusdag van 12.00 tot 17.00 uur. \nLocatie:   Rotterdam-Capelle aan den IJssel \nInclusief: \n\ncursusmap\nuitgewerkte trainingen (ready to use!)\ndigitaal marketingmateriaal\ncertificaat\n\nNog niet ingeschreven? Schrijf je hier dan nu in voor 2 juni!\nVoor meer informatie kijk op de opleidingspagina. \nDit delen:\n				Delen op X (Opent in een nieuw venster)\n				X\n			\n				Share op Facebook (Opent in een nieuw venster)\n				Facebook\n			\n				E-mail een link naar een vriend (Opent in een nieuw venster)\n				E-mail\n			\n				Afdrukken (Opent in een nieuw venster)\n				Print\n			\n				Delen op LinkedIn (Opent in een nieuw venster)\n				LinkedIn\n			\n				Delen op Pinterest (Opent in een nieuw venster)\n				Pinterest\n			\n				Delen op WhatsApp (Opent in een nieuw venster)\n				WhatsApp
URL:https://www.trainthetrainers.nl/event/the-gladiator-kids-workouts/
LOCATION:Fascinatio Sports\, Rotterdam-Capelle\, Fascinatio Boulevard\, Rotterdam\, Nederland
CATEGORIES:Bootcamp,Opleidingen
ATTACH;FMTTYPE=image/png:https://www.trainthetrainers.nl/wp-content/uploads/2017/08/TTT-product-THE-GLADIATOR-WORKOUTS®-KIDS-380x500.png
ORGANIZER;CN="Train The Trainers B.V.":MAILTO:info@trainthetrainers.nl
END:VEVENT
END:VCALENDAR