BEGIN:VCALENDAR
VERSION:2.0
PRODID:-//Train The Trainers - ECPv6.15.20//NONSGML v1.0//EN
CALSCALE:GREGORIAN
METHOD:PUBLISH
X-ORIGINAL-URL:https://www.trainthetrainers.nl
X-WR-CALDESC:Evenementen voor Train The Trainers
REFRESH-INTERVAL;VALUE=DURATION:PT1H
X-Robots-Tag:noindex
X-PUBLISHED-TTL:PT1H
BEGIN:VTIMEZONE
TZID:Europe/Amsterdam
BEGIN:DAYLIGHT
TZOFFSETFROM:+0100
TZOFFSETTO:+0200
TZNAME:CEST
DTSTART:20250330T010000
END:DAYLIGHT
BEGIN:STANDARD
TZOFFSETFROM:+0200
TZOFFSETTO:+0100
TZNAME:CET
DTSTART:20251026T010000
END:STANDARD
BEGIN:DAYLIGHT
TZOFFSETFROM:+0100
TZOFFSETTO:+0200
TZNAME:CEST
DTSTART:20260329T010000
END:DAYLIGHT
BEGIN:STANDARD
TZOFFSETFROM:+0200
TZOFFSETTO:+0100
TZNAME:CET
DTSTART:20261025T010000
END:STANDARD
BEGIN:DAYLIGHT
TZOFFSETFROM:+0100
TZOFFSETTO:+0200
TZNAME:CEST
DTSTART:20270328T010000
END:DAYLIGHT
BEGIN:STANDARD
TZOFFSETFROM:+0200
TZOFFSETTO:+0100
TZNAME:CET
DTSTART:20271031T010000
END:STANDARD
END:VTIMEZONE
BEGIN:VEVENT
DTSTART;TZID=Europe/Amsterdam:20260508T120000
DTEND;TZID=Europe/Amsterdam:20260508T160000
DTSTAMP:20260421T192719
CREATED:20250819T084522Z
LAST-MODIFIED:20260311T074243Z
UID:25690-1778241600-1778256000@www.trainthetrainers.nl
SUMMARY:KETTLEBELL WORKSHOP
DESCRIPTION:Leer de technieken en trainingsmogelijkheden van dit fantastische fitnesstool \nKeywords: Fast twitch vezeltraining\, coretraining\, corestabilisatie\, cardio\, high intensity interval\, schouder(blad)stabilisatie\, extensie-ketentraining. \nStudiebelasting en duur: 1 intensieve cursusdag \nDatum:   \nVrijdag 8 mei 2026. 12.00 tot 16.00 uur \nLocatie:   Capelle aan den IJssel/Rotterdam \nInclusief :\n* cursusmateriaal \n* certificaat \n\nDit delen:\n				Delen op X (Opent in een nieuw venster)\n				X\n			\n				Share op Facebook (Opent in een nieuw venster)\n				Facebook\n			\n				E-mail een link naar een vriend (Opent in een nieuw venster)\n				E-mail\n			\n				Afdrukken (Opent in een nieuw venster)\n				Print\n			\n				Delen op LinkedIn (Opent in een nieuw venster)\n				LinkedIn\n			\n				Delen op Pinterest (Opent in een nieuw venster)\n				Pinterest\n			\n				Delen op WhatsApp (Opent in een nieuw venster)\n				WhatsApp
URL:https://www.trainthetrainers.nl/event/kettlebell-workshop-2-2/
LOCATION:Fascinatio Sports\, Rotterdam-Capelle\, Fascinatio Boulevard\, Rotterdam\, Nederland
CATEGORIES:Bootcamp,Opleidingen,Sport algemeen
ATTACH;FMTTYPE=image/png:https://www.trainthetrainers.nl/wp-content/uploads/2018/08/TTT-productd-KETTLEBELL-WORKSHOP-1.png
ORGANIZER;CN="Train The Trainers B.V.":MAILTO:info@trainthetrainers.nl
END:VEVENT
END:VCALENDAR